BEGIN:VCALENDAR
PRODID:-//AT Content Types//AT Event//EN
VERSION:1.0
BEGIN:VEVENT
DTSTART:20260415T160000Z
DTEND:20260415T170000Z
DCREATED:20260304T094103Z
UID:ATEvent-0ee7ee15-33f1-48ca-a35e-6708336d6d2f
SEQUENCE:0
LAST-MODIFIED:20260310T090407Z
SUMMARY:Xerrada "L’horta gran i comunitària\: cultivant salut"
PRIORITY:3
TRANSP:0
END:VEVENT
END:VCALENDAR
