BEGIN:VCALENDAR
PRODID:-//AT Content Types//AT Event//EN
VERSION:1.0
BEGIN:VEVENT
DTSTART:20260410T090000Z
DTEND:20260410T100000Z
DCREATED:20260331T062112Z
UID:ATEvent-0e098f1c-b1fb-495e-90f8-62cf9b18a229
SEQUENCE:0
LAST-MODIFIED:20260331T062118Z
SUMMARY:Salut cognitiva
PRIORITY:3
TRANSP:0
END:VEVENT
END:VCALENDAR
