BEGIN:VCALENDAR
PRODID:-//AT Content Types//AT Event//EN
VERSION:1.0
BEGIN:VEVENT
DTSTART:20260413T160000Z
DTEND:20260413T173000Z
DCREATED:20260330T091950Z
UID:ATEvent-f80ff07d-f170-42d3-a799-38aa82bde599
SEQUENCE:0
LAST-MODIFIED:20260330T092526Z
SUMMARY:Taller de balls folk
PRIORITY:3
TRANSP:0
END:VEVENT
END:VCALENDAR
