BEGIN:VCALENDAR
PRODID:-//AT Content Types//AT Event//EN
VERSION:1.0
BEGIN:VEVENT
DTSTART:20260420T153000Z
DTEND:20260420T164500Z
DCREATED:20260330T091950Z
UID:ATEvent-94388cdf-2d5b-4b24-8f5b-d2ec1c37b7e9
SEQUENCE:0
LAST-MODIFIED:20260330T092601Z
SUMMARY:Taller "Dona vitalitat al teu cos per a una vida saludable"
PRIORITY:3
TRANSP:0
END:VEVENT
END:VCALENDAR
