BEGIN:VCALENDAR
PRODID:-//AT Content Types//AT Event//EN
VERSION:1.0
BEGIN:VEVENT
DTSTART:20260416T160000Z
DTEND:20260416T173000Z
DCREATED:20260330T091950Z
UID:ATEvent-f863d58c-697d-4fa3-b1f4-d96436f43eef
SEQUENCE:0
LAST-MODIFIED:20260330T093256Z
SUMMARY:Xerrada - taller\: "A la natura fem salut"
PRIORITY:3
TRANSP:0
END:VEVENT
END:VCALENDAR
