BEGIN:VCALENDAR
PRODID:-//AT Content Types//AT Event//EN
VERSION:2.0
METHOD:PUBLISH
BEGIN:VEVENT
DTSTAMP:20260420T185533Z
CREATED:20260327T081545Z
UID:ATEvent-9626adfa-cb16-4926-b4c7-9678304e54eb
LAST-MODIFIED:20260331T063702Z
SUMMARY:XI Passejada de Gossos
DTSTART:20260426T080000Z
DTEND:20260426T100000Z
CATEGORIES:Salut,Esports
CLASS:PUBLIC
END:VEVENT
END:VCALENDAR
